BEGIN:VCALENDAR
VERSION:2.0
CALSCALE:GREGORIAN
PRODID:-//MyApp//Calendar 1.0//EN
BEGIN:VEVENT
METHOD:PUBLISH
UID:46501@regionalniportaly.cz
DTSTAMP:20260423T044121Z
DTSTART;VALUE=DATE:20241017
DTEND;VALUE=DATE:20241018
SUMMARY:Velký pán
DESCRIPTION:Velkolepé loutkové dobrodružství\, jaké svět v kinech ještě neviděl. Oblíbený Malý Pán a všichni jeho přátelé budou čelit Dr. Zetkovi a jeho snahám ovládnout celý les i okolí. Život hlavních hrdinů začíná poklidně a vesele\, finále si ovšem nezadá s těmi nejvýpravnějšími světovými hity!Režie: radek Beran72 minut
LOCATION:Zbýšov
END:VEVENT
END:VCALENDAR