BEGIN:VCALENDAR
VERSION:2.0
CALSCALE:GREGORIAN
PRODID:-//MyApp//Calendar 1.0//EN
BEGIN:VEVENT
METHOD:PUBLISH
UID:46496@regionalniportaly.cz
DTSTAMP:20260422T203103Z
DTSTART;VALUE=DATE:20241011
DTEND;VALUE=DATE:20241012
SUMMARY:Transformers jedna
DESCRIPTION:Odhalte původ jejich identity!Příběh legendárních Transformers se vrací ke svým kořenům. Poznejte\, jak se zrodilo nepřátelství mezi Optimem Primem a Megatronem\, a proč museli opustit rodnou planetu Cybertron. To vše navíc dostanete v novém\, animovaném provedení.Režie: Josh Cooley&nbsp\;3D \,&nbsp\;dabováno&nbsp\;\, 104 minut
LOCATION:Zbýšov
END:VEVENT
END:VCALENDAR