BEGIN:VCALENDAR
VERSION:2.0
CALSCALE:GREGORIAN
PRODID:-//MyApp//Calendar 1.0//EN
BEGIN:VEVENT
METHOD:PUBLISH
UID:46494@regionalniportaly.cz
DTSTAMP:20260422T192141Z
DTSTART;VALUE=DATE:20241004
DTEND;VALUE=DATE:20241005
SUMMARY:Vlny
DESCRIPTION:V proslulé Redakci mezinárodního života Československého rozhlasu působí pod vedením Milana Weinera odvážní novináři\, celebrity své doby\, jejichž plakáty zdobí zdi mnohých domácností. Mezi tehdejší žurnalistické ikony Jiřího Dienstbiera\, Věru Šťovíčkovou či Luboše Dobrovského se dostává mladík Tomáš… Thriller\, dramaRežie: Jiří Mádl131 minut
LOCATION:Zbýšov
END:VEVENT
END:VCALENDAR