BEGIN:VCALENDAR
VERSION:2.0
CALSCALE:GREGORIAN
PRODID:-//MyApp//Calendar 1.0//EN
BEGIN:VEVENT
METHOD:PUBLISH
UID:46493@regionalniportaly.cz
DTSTAMP:20260423T014523Z
DTSTART;VALUE=DATE:20241004
DTEND;VALUE=DATE:20241005
SUMMARY:Rozzum v divočině
DESCRIPTION:Co se stane robotovi\, když se ocitne na opuštěném ostrově? Studio DreamWorks Animation\, tvůrci série Jak vycvičit draka\, v animovaném dobrodružství Rozzum v divočině tvrdí\, že tu může najít srdce.dabováno&nbsp\;Délka filmu: 101 minut
LOCATION:Zbýšov
END:VEVENT
END:VCALENDAR