BEGIN:VCALENDAR
VERSION:2.0
CALSCALE:GREGORIAN
PRODID:-//MyApp//Calendar 1.0//EN
BEGIN:VEVENT
METHOD:PUBLISH
UID:45490@regionalniportaly.cz
DTSTAMP:20260422T221723Z
DTSTART;VALUE=DATE:20241102
DTEND;VALUE=DATE:20241102
SUMMARY:Prohlídka podzemí hradu Dolní Kounice - sobota 2. 11. 2024
DESCRIPTION:Hrad a zámek v Dolních Kounicích byl postaven na obranu známého kláštera Rosa Coeli. Podzemí hradu je opředeno mnoha různými záhadami a tajemstvím. Některé prameny uvádí\, že  z podzemí hradu vedly nejen tajné chodby do kláštera a k řece Jihlavě\, ale také\, že zde bývalo vězení\, neboť pánové zdejšího hradu měli právo vykonávat popravy na nedalekém šibeničním vrchu a tedy než k popravám docházelo\, prožívali odsouzení své poslední hodiny právě v podzemí tohoto hradu.Podzemí hradu má dvě patra. První bylo současnými majiteli upraveno na místo\, kde se nejdříve konaly společenské události a následně zde probíhaly 10 let úspěšné interaktivní mikulášské programy\, konkrétně zde bývalo peklo s mnoha čerty\, kterým děti musely projít\, aby se pak následně mohly dostat do nebe a k Mikulášovi pro své nadílky. Tyto velmi úspěšné programy pro děti skončily spolu s Covidem .Druhé patro podzemí vede podél kobek ve zdech\, kdy návštěvník bude míjet i vchody do "tajných " chodeb až k téměř 80 m hluboké studni\, jako v historii jedinému zdroji vody tohoto hradu.Prohlídky budou probíhat v obou patrech s tím\, že se návštěvníci budou moci podívat do obou pater podzemí a budou moci shlédnout kobky bývalého vězení\, vchod do uváděných tajných chodeb a neuvěřitelnou krásu kopané studny ve skále\, na které hrad stojí. Návštěvníci budou moci studnu obdivovat zevnitř v cca třetině její hloubky.\nV případě\, že bude "rozdrobený" prodej vstupenek na konkrétní hodiny (zjistíme z předprodeje)\, sloučíme jednotlivé méně obsazené časy do jednoho času v daný termín (myšleno den) a budeme Vás o tom včas informovat na email uvedený u předprodeje.\nTěšíme se na Vás!
LOCATION:Dolní Kounice
END:VEVENT
END:VCALENDAR