BEGIN:VCALENDAR
VERSION:2.0
CALSCALE:GREGORIAN
PRODID:-//MyApp//Calendar 1.0//EN
BEGIN:VEVENT
METHOD:PUBLISH
UID:44186@regionalniportaly.cz
DTSTAMP:20260422T202236Z
DTSTART;VALUE=DATE:20240927
DTEND;VALUE=DATE:20240929
SUMMARY:CreepyCon 2024
DESCRIPTION:Třídenní festival prosycený tématem záhad\, creepypast\, městských i jiných legend\, pověstí a hororu\, pořádaný ve spolupráci s KIS Oslavany. Jedinečná příležitost potkat se s lidmi\, kteří chápou váš zájem o záhady a tajemno. Pod pokličkou temnoty pro vás připravujeme ty nejvytříbenější pokrmy z naší mrazivé kuchyně.Těšit se můžete na bohatý program – přednášky\, besedy\, soutěže a hry\, ale také na známá jména české temné YouTube scény\, creepypastery\, přední autory českých krátkometrážních hororových filmů\, herce\, jejichž jména či hlasy jste již stoprocentně někde slyšeli\, ale i běžné hororové nadšence či milovníky tajemna.&nbsp\;Mezi ohlášenými hosty jsou například Eduard Birke a Adam Miklica z Abecedy strachu či autor legendární černé sanitky Petr Janeček. Další hosté budou oznámeni.&nbsp\;Více informací na našich stránkách - www.creepycon.cz
LOCATION:Oslavany
END:VEVENT
END:VCALENDAR