BEGIN:VCALENDAR
VERSION:2.0
CALSCALE:GREGORIAN
PRODID:-//MyApp//Calendar 1.0//EN
BEGIN:VEVENT
METHOD:PUBLISH
UID:42990@regionalniportaly.cz
DTSTAMP:20260423T012413Z
DTSTART;VALUE=DATE:20241123
DTEND;VALUE=DATE:20241124
SUMMARY:travesti show Divoké kočky v Oslavanech
DESCRIPTION:Travesti skupina Divoké kočky z Ostravy přijíždí v rámci svého&nbsp\;turné se svým novým programem opět do Oslavan\, kde vystoupí 23.11.2024 od&nbsp\;19:00 na sále dělnického domu Oslavany. Celovečerní&nbsp\;zábavný program&nbsp\;je plný nezapomenutelných legračních scének\, písniček\, známých zpěvaček\, krásných kostýmů\, situačního humoru a hlavně smíchu a je vhodný jak pro ženské tak pánské publikum. Jejich vystoupení se těší stálé větší oblibě a tak si každý divák přijde na své. Přijdte se sami přesvědčit\, že na travesti představení není nic špatného a v podání ostravských umělců se budete určitě dobře bavit. Divoké kočky jezdí se svým programem do Oslavan&nbsp\;pravidelně několik let\, a proto se těší opět na úžasné místní publikum\, atmosféru a skvělý&nbsp\;večer. Na závěr programu Vám členové souboru ukážou svou pravou tvář.
LOCATION:Oslavany
END:VEVENT
END:VCALENDAR