BEGIN:VCALENDAR
VERSION:2.0
CALSCALE:GREGORIAN
PRODID:-//MyApp//Calendar 1.0//EN
BEGIN:VEVENT
METHOD:PUBLISH
UID:42824@regionalniportaly.cz
DTSTAMP:20260422T155629Z
DTSTART;VALUE=DATE:20240517
DTEND;VALUE=DATE:20240518
SUMMARY:Království planeta  opic
DESCRIPTION:
LOCATION:Zbýšov
END:VEVENT
END:VCALENDAR