BEGIN:VCALENDAR
VERSION:2.0
CALSCALE:GREGORIAN
PRODID:-//MyApp//Calendar 1.0//EN
BEGIN:VEVENT
METHOD:PUBLISH
UID:42538@regionalniportaly.cz
DTSTAMP:20260422T161658Z
DTSTART;VALUE=DATE:20240510
DTEND;VALUE=DATE:20240511
SUMMARY:Fantastická parta
DESCRIPTION:
LOCATION:Zbýšov
END:VEVENT
END:VCALENDAR