BEGIN:VCALENDAR
VERSION:2.0
CALSCALE:GREGORIAN
PRODID:-//MyApp//Calendar 1.0//EN
BEGIN:VEVENT
METHOD:PUBLISH
UID:41806@regionalniportaly.cz
DTSTAMP:20260422T210655Z
DTSTART;VALUE=DATE:20240716
DTEND;VALUE=DATE:20240717
SUMMARY:Lukáš Pavlásek - Planeta slepic
DESCRIPTION:Do Moravského Krumlova přijede Lukáš Pavlásek se svým&nbsp\;stand-up speciálem.&nbsp\;Přijďte si užít nezapomenutelný speciál.&nbsp\;&nbsp\;&nbsp\;
LOCATION:Moravský Krumlov
END:VEVENT
END:VCALENDAR