BEGIN:VCALENDAR
VERSION:2.0
CALSCALE:GREGORIAN
PRODID:-//MyApp//Calendar 1.0//EN
BEGIN:VEVENT
METHOD:PUBLISH
UID:41656@regionalniportaly.cz
DTSTAMP:20260422T155651Z
DTSTART;VALUE=DATE:20240419
DTEND;VALUE=DATE:20240420
SUMMARY:Jak zachránit draka
DESCRIPTION:
LOCATION:Zbýšov
END:VEVENT
END:VCALENDAR