BEGIN:VCALENDAR
VERSION:2.0
CALSCALE:GREGORIAN
PRODID:-//MyApp//Calendar 1.0//EN
BEGIN:VEVENT
METHOD:PUBLISH
UID:41655@regionalniportaly.cz
DTSTAMP:20260422T161005Z
DTSTART;VALUE=DATE:20240412
DTEND;VALUE=DATE:20240413
SUMMARY:Krotitelé duchů: Říše ledu
DESCRIPTION:
LOCATION:Zbýšov
END:VEVENT
END:VCALENDAR