BEGIN:VCALENDAR
VERSION:2.0
CALSCALE:GREGORIAN
PRODID:-//MyApp//Calendar 1.0//EN
BEGIN:VEVENT
METHOD:PUBLISH
UID:41654@regionalniportaly.cz
DTSTAMP:20260422T172655Z
DTSTART;VALUE=DATE:20240412
DTEND;VALUE=DATE:20240413
SUMMARY:Ella a černý jaguár
DESCRIPTION:
LOCATION:Zbýšov
END:VEVENT
END:VCALENDAR