BEGIN:VCALENDAR
VERSION:2.0
CALSCALE:GREGORIAN
PRODID:-//MyApp//Calendar 1.0//EN
BEGIN:VEVENT
METHOD:PUBLISH
UID:41075@regionalniportaly.cz
DTSTAMP:20260422T161130Z
DTSTART;VALUE=DATE:20240808
DTEND;VALUE=DATE:20240809
SUMMARY:Léto pod věží "Václav NOID Bárta s kapelou"
DESCRIPTION:Letní koncert v netradičním prostředí těžní věže Simson\, předkapela Seliver\, Václav Noid Bárta od 20.30 hod.\, vstup do&nbsp\;areálu od 17 hod. \, parkování za MÚ\, u hasičky\, u kostela Sv.Martina.
LOCATION:Zbýšov
END:VEVENT
END:VCALENDAR