BEGIN:VCALENDAR
VERSION:2.0
CALSCALE:GREGORIAN
PRODID:-//MyApp//Calendar 1.0//EN
BEGIN:VEVENT
METHOD:PUBLISH
UID:41072@regionalniportaly.cz
DTSTAMP:20260422T143050Z
DTSTART;VALUE=DATE:20240329
DTEND;VALUE=DATE:20240330
SUMMARY:GUMP- jsme dvojka
DESCRIPTION:
LOCATION:Zbýšov
END:VEVENT
END:VCALENDAR