BEGIN:VCALENDAR
VERSION:2.0
CALSCALE:GREGORIAN
PRODID:-//MyApp//Calendar 1.0//EN
BEGIN:VEVENT
METHOD:PUBLISH
UID:41006@regionalniportaly.cz
DTSTAMP:20260422T192109Z
DTSTART;VALUE=DATE:20240726
DTEND;VALUE=DATE:20240727
SUMMARY:DJEMBE MARATHON 2024
DESCRIPTION:Netradiční festival world hudby a tance v tradičním čase\, místě a s tradičním programem. Vydejte se s námi na cestu napříč mnoha hudebními žánry. Uslyšíte především tradiční&nbsp\;rytmy&nbsp\;západní Afriky\, rytmy balkánské\, latinské i&nbsp\;reggae\, ale i individuální skvěle vyladěné rytmy.
LOCATION:Moravský Krumlov
END:VEVENT
END:VCALENDAR