BEGIN:VCALENDAR
VERSION:2.0
CALSCALE:GREGORIAN
PRODID:-//MyApp//Calendar 1.0//EN
BEGIN:VEVENT
METHOD:PUBLISH
UID:40710@regionalniportaly.cz
DTSTAMP:20260423T045524Z
DTSTART;VALUE=DATE:20250319
DTEND;VALUE=DATE:20250320
SUMMARY:Eva Urbanová - DRUHÁ TVÁŘ
DESCRIPTION:ROCKOVĚ - POPOVÝ PROJEKT DRUHÁ TVÁŘ S KAPELOU BAROCKProměna první dámy české opery v rockovou star v novém projektu Evy Urbanové nabídne koncert nabitý rockovými a popovými songy. Operní diva světového formátu Eva Urbanová zazáří v exkluzivním pořadu&nbsp\;Druhá tvář&nbsp\;s&nbsp\;muzikantsky skvěle obsazenou formací BAROCK.Hutný zvuk klasických smyčcových nástrojů se sóly koncertního mistra brněnské filharmonie a skvělá rytmická sekce v čele s kytaristou a frontmanem AC/CZ Tribute Adamem Malíkem vytváří pěvkyni spolehlivé zázemí pro uplatnění všech barev jejího skvělého hlasu v legendárních popových a rockových hitech kapel QUEEN\, Nightwish či pěveckých legend Andrei Bocceliho\, Il divo a mnoha dalších.
LOCATION:Zbýšov
END:VEVENT
END:VCALENDAR