BEGIN:VCALENDAR
VERSION:2.0
CALSCALE:GREGORIAN
PRODID:-//MyApp//Calendar 1.0//EN
BEGIN:VEVENT
METHOD:PUBLISH
UID:40444@regionalniportaly.cz
DTSTAMP:20260422T204135Z
DTSTART;VALUE=DATE:20240430
DTEND;VALUE=DATE:20240501
SUMMARY:Kamelot
DESCRIPTION:V rámci akce Čarodějnice na zámku vystoupí skupina Kamelot a Roman Horký\, který letos slaví 60 let\, se svým programem Zaprášené diamanty.Koncert se uskuteční v magickém prostředí arkádového zámku Moravský Krumlov.
LOCATION:Moravský Krumlov
END:VEVENT
END:VCALENDAR