BEGIN:VCALENDAR
VERSION:2.0
CALSCALE:GREGORIAN
PRODID:-//MyApp//Calendar 1.0//EN
BEGIN:VEVENT
METHOD:PUBLISH
UID:39544@regionalniportaly.cz
DTSTAMP:20260422T061154Z
DTSTART;VALUE=DATE:20240216
DTEND;VALUE=DATE:20240217
SUMMARY:Noemova archa
DESCRIPTION:
LOCATION:Zbýšov
END:VEVENT
END:VCALENDAR