BEGIN:VCALENDAR
VERSION:2.0
CALSCALE:GREGORIAN
PRODID:-//MyApp//Calendar 1.0//EN
BEGIN:VEVENT
METHOD:PUBLISH
UID:39499@regionalniportaly.cz
DTSTAMP:20260423T013332Z
DTSTART;VALUE=DATE:20250102
DTEND;VALUE=DATE:20250103
SUMMARY:Janek Ledecký - novoroční
DESCRIPTION:Janek Ledecký je jednou z našich nejznámějších hudebních hvězd. Poprvé si získal pozornost publika jako frontman rockové kapely Žentour. Ta vydala své první album Žentour 001 v roce 1987. V roce 1989 vyhrála TV hitparádu „Triangl“ s písničkou „Utajený světadíl“ hned 3x za sebou a v létě získala s „Promilujem celou noc“ Bratislavskou lyru na nejprestižnějším Československém mezinárodním hudebním festivalu. Následoval singl „Všechno bude fajn“ a Žentour byl definitivně katapultován z rockových klubů na stadiony. Album Žentour 003 se stalo nejprodávanějším na trhu. Následovalo album Žentour 005 s legendárním hitem „Proklínám“. Dvě zlaté a platinové desky posunuly Žentour na první místa radiových a televizních hitparád.
LOCATION:Zbýšov
END:VEVENT
END:VCALENDAR