BEGIN:VCALENDAR
VERSION:2.0
CALSCALE:GREGORIAN
PRODID:-//MyApp//Calendar 1.0//EN
BEGIN:VEVENT
METHOD:PUBLISH
UID:39498@regionalniportaly.cz
DTSTAMP:20260423T013300Z
DTSTART;VALUE=DATE:20241208
DTEND;VALUE=DATE:20241209
SUMMARY:Věra Martinová s kapelou - vánoční koncert
DESCRIPTION:
LOCATION:Zbýšov
END:VEVENT
END:VCALENDAR