BEGIN:VCALENDAR
VERSION:2.0
CALSCALE:GREGORIAN
PRODID:-//MyApp//Calendar 1.0//EN
BEGIN:VEVENT
METHOD:PUBLISH
UID:39497@regionalniportaly.cz
DTSTAMP:20260425T104324Z
DTSTART;VALUE=DATE:20241020
DTEND;VALUE=DATE:20241021
SUMMARY:Švanci show "Já su já"
DESCRIPTION:Čekají vás historky o mém životě\, prostor na otázky na tělo\, autogramiáda\, focení a mnoho dalšího.Jak moc dobře mě znáš? Víš s čím jsem si hrál jako malej kluk?Co jsem ještě neřekl o Survivoru? Jaká byla moje profesionální kariéra fotbalisty?Nejen to se dozvíš ve zbrusu nové zábavné show "JÁ SU JÁ".Přijď se podívat a užít si legraci\, popovídat si s legendou fotbalu\, moderátorem\, bavičem a dát si třeba fotku\, nebo si nechat cokoliv podepsat.&nbsp\;www.standupshow.cz/svanci
LOCATION:Zbýšov
END:VEVENT
END:VCALENDAR