BEGIN:VCALENDAR
VERSION:2.0
CALSCALE:GREGORIAN
PRODID:-//MyApp//Calendar 1.0//EN
BEGIN:VEVENT
METHOD:PUBLISH
UID:39356@regionalniportaly.cz
DTSTAMP:20260422T174633Z
DTSTART;VALUE=DATE:20240427
DTEND;VALUE=DATE:20240428
SUMMARY:Floria Kroměříž
DESCRIPTION:Rádi bychom Vás pozvali na zájezd Floria Kroměříž\, který se koná dne 27. 4. 2024\nMísto odjezdu je stanoveno před Městským úřadem v Dolních Kounicích.\nOdjezd v 7:30 hod. Předpokládaný návrat z Kroměříže ve 14:00 hod.\nTento zájezd je určen pro všechny zahradníky a zahrádkáře\, nadšence zajímající se o rostliny\, kteří chtějí zažít jedinečnou atmosféru prodejní výstavy. Na výstavišti Kroměříž na Vás bude čekat unikátní expozice desítek tisíc květin\, stejně jako desítky prodejců nabízejících okrasné květiny\, bylinky\, zeleninu\, řemeslné výrobky a další zboží pro Váš dům a zahradu.\nRezervace míst v autobuse na TIC Dolní Kounice nebo na e-mailové adrese tic@dolnikounice.cz\n 
LOCATION:Dolní Kounice
END:VEVENT
END:VCALENDAR