BEGIN:VCALENDAR
VERSION:2.0
CALSCALE:GREGORIAN
PRODID:-//MyApp//Calendar 1.0//EN
BEGIN:VEVENT
METHOD:PUBLISH
UID:39042@regionalniportaly.cz
DTSTAMP:20260422T074409Z
DTSTART;VALUE=DATE:20240202
DTEND;VALUE=DATE:20240203
SUMMARY:Aristokratka ve varu
DESCRIPTION:
LOCATION:Zbýšov
END:VEVENT
END:VCALENDAR