BEGIN:VCALENDAR
VERSION:2.0
CALSCALE:GREGORIAN
PRODID:-//MyApp//Calendar 1.0//EN
BEGIN:VEVENT
METHOD:PUBLISH
UID:38630@regionalniportaly.cz
DTSTAMP:20260422T234341Z
DTSTART;VALUE=DATE:20241129
DTEND;VALUE=DATE:20241130
SUMMARY:7 pádů Honzy Dědka ve Zbýšově
DESCRIPTION:
LOCATION:Zbýšov
END:VEVENT
END:VCALENDAR