BEGIN:VCALENDAR
VERSION:2.0
CALSCALE:GREGORIAN
PRODID:-//MyApp//Calendar 1.0//EN
BEGIN:VEVENT
METHOD:PUBLISH
UID:38469@regionalniportaly.cz
DTSTAMP:20260423T044013Z
DTSTART;VALUE=DATE:20241215
DTEND;VALUE=DATE:20241216
SUMMARY:Štístko a Poupěnka "Pojď si hrát"
DESCRIPTION:Zveme vás na zbrusu nové představení Pojď si hrát. Zazpíváme si písničky z našeho nového filmu jako Skáčeme nebo Loleta Popleta. Dočkáte se i oblíbených hitů Jojojo\, nenene\, Brontosaurus nebo Hakuna Matata. Hrajeme i ve vašem městě!Děti do 2 let( 2.narozeniny) bez nároku na sedadlo zdarma.
LOCATION:Zbýšov
END:VEVENT
END:VCALENDAR