BEGIN:VCALENDAR
VERSION:2.0
CALSCALE:GREGORIAN
PRODID:-//MyApp//Calendar 1.0//EN
BEGIN:VEVENT
METHOD:PUBLISH
UID:38468@regionalniportaly.cz
DTSTAMP:20260422T234259Z
DTSTART;VALUE=DATE:20241204
DTEND;VALUE=DATE:20241205
SUMMARY:Duchem proti své vůli
DESCRIPTION:Bylo úmrtí slavné herečky přirozené\, nebo to byla vražda?&nbsp\;A&nbsp\;straší její duch opravdu\, nebo jen nevěrnému manželovi straší "ve věži"?&nbsp\;A&nbsp\;přibude ještě další oběť?&nbsp\;A&nbsp\;bude zlo potrestáno\, jako v&nbsp\;každé dobré pohádce?&nbsp\;Odpovědi se dozvíte v&nbsp\;nové\, tentokrát duchařské detektivní bláznivé komedii Fanny agentury −&nbsp\;opět z&nbsp\;pera Jakuba Zindulky.
LOCATION:Zbýšov
END:VEVENT
END:VCALENDAR