BEGIN:VCALENDAR
VERSION:2.0
CALSCALE:GREGORIAN
PRODID:-//MyApp//Calendar 1.0//EN
BEGIN:VEVENT
METHOD:PUBLISH
UID:38467@regionalniportaly.cz
DTSTAMP:20260422T234319Z
DTSTART;VALUE=DATE:20241124
DTEND;VALUE=DATE:20241125
SUMMARY:Úvěr
DESCRIPTION:Překlad:&nbsp\;Ivan Jergl. Výprava:&nbsp\;Lenka Polášková. Režie:&nbsp\;Antonín Procházka.Martin Zounar\,&nbsp\;Filip BlažekInteligentní komedie o&nbsp\;tom\, že do finančních záležitostí se nemá nikdy zatahovat žena. Ředitel banky Gregorio má skvělý život\, lukrativní místo a&nbsp\;krásnou ženu. Jednou razantně zamítne žádost o&nbsp\;úvěr neodbytnému nesolventnímu žadateli Antoniovi a&nbsp\;ten mu pohrozí\, že když nedostane úvěr\, svede jeho ženu. Má totiž značné svůdcovské schopnosti a&nbsp\;nikdy mu žádná neodolala. Gregorio neustoupí\, ale raději zavolá své manželce\, aby si dala na Antonia pozor. Ta se urazí a&nbsp\;nekompromisně Gregoria vyhodí z&nbsp\;domu. Gregorio potřebuje ženu opět okouzlit\, ale chybějí mu svůdcovské schopnosti. A&nbsp\;tak musí chtě nechtě požádat o&nbsp\;pomoc zkušeného svůdníka Antonia...
LOCATION:Zbýšov
END:VEVENT
END:VCALENDAR