BEGIN:VCALENDAR
VERSION:2.0
CALSCALE:GREGORIAN
PRODID:-//MyApp//Calendar 1.0//EN
BEGIN:VEVENT
METHOD:PUBLISH
UID:38466@regionalniportaly.cz
DTSTAMP:20260423T012225Z
DTSTART;VALUE=DATE:20241117
DTEND;VALUE=DATE:20241118
SUMMARY:Pro tebe cokoliv
DESCRIPTION:Překlad:&nbsp\;Anežka Svobodová. Scéna:&nbsp\;Martin Černý. Kostýmy:&nbsp\;Samiha Maleh. Režie:&nbsp\;Petr Kracik.Jana Paulová\,&nbsp\;Pavel Zedníček\,&nbsp\;Simona Lewandowska\,&nbsp\;Ladislav Hampl\,&nbsp\;David Suchařípa\,&nbsp\;Pavla Vojáčková-Rychlá\,&nbsp\;Kristián KašparFrancouzská komedie o&nbsp\;tom\, že mateřská láska nemá žádné hranice a že i&nbsp\;lež pronesená z&nbsp\;čisté lásky zůstává pořád lží a&nbsp\;jako taková má krátké nohy...&nbsp\;
LOCATION:Zbýšov
END:VEVENT
END:VCALENDAR