BEGIN:VCALENDAR
VERSION:2.0
CALSCALE:GREGORIAN
PRODID:-//MyApp//Calendar 1.0//EN
BEGIN:VEVENT
METHOD:PUBLISH
UID:38465@regionalniportaly.cz
DTSTAMP:20260423T044432Z
DTSTART;VALUE=DATE:20241022
DTEND;VALUE=DATE:20241023
SUMMARY:Až naprší a uschne
DESCRIPTION:Premiéra: 21.4.2024Překlad:&nbsp\;Pavel Dominik. Výprava:&nbsp\;Miroslav Král. Režie:&nbsp\;Jaroslav Slánský.Olga Želenská&nbsp\;/&nbsp\;Ivana Andrlová\,&nbsp\;Lukáš Vaculík&nbsp\;/&nbsp\;Pavel Nečas\,&nbsp\;Hana Kusnjerová&nbsp\;/&nbsp\;Alžbeta Stanková\,&nbsp\;Petr Buchta&nbsp\;/&nbsp\;Václav Jiráček\,&nbsp\;Adéla Gondíková&nbsp\;/&nbsp\;Regina Řandová\,&nbsp\;Roman Štolpa&nbsp\;/&nbsp\;Viktor Limr\,&nbsp\;Kristýna Kociánová&nbsp\;/&nbsp\;Vítězslava Karolová\,&nbsp\;Juraj Bernáth&nbsp\;/&nbsp\;Filip Tomsa&nbsp\;/&nbsp\;Jaroslav Slánský\,&nbsp\;Pavla Vojáčková-Rychlá&nbsp\;/&nbsp\;Lucie SvobodováHořká komedie odehrávající se během jednoho červnového víkendu v&nbsp\;letním domě. Judith Blissová\, bývalá herečka a&nbsp\;její manžel\, spisovatel David\, tu tráví léto se svými dvěma dospívajícími dětmi. Nezávisle na sobě si každý z&nbsp\;nich pozve na víkend hosta\, na kterého se až dětinsky těší\, bohužel jen do chvíle\, než zjistí\, že jejich host nebude v&nbsp\;domě tím jediným. Od toho okamžiku hádky mezi sebestřednými členy rodiny převáží nad pohostinností a&nbsp\;obyčejnou slušností. Život rodiny Blissových je takové malé peklíčko. Všichni se chovají nevyzrále a&nbsp\;nedospěle. Hosté jsou zmatení a&nbsp\;podléhají nástrahám milostných hrátek...
LOCATION:Zbýšov
END:VEVENT
END:VCALENDAR