BEGIN:VCALENDAR
VERSION:2.0
CALSCALE:GREGORIAN
PRODID:-//MyApp//Calendar 1.0//EN
BEGIN:VEVENT
METHOD:PUBLISH
UID:38464@regionalniportaly.cz
DTSTAMP:20260423T044003Z
DTSTART;VALUE=DATE:20241018
DTEND;VALUE=DATE:20241019
SUMMARY:Co to píšeš\, miláčku?
DESCRIPTION:Překlad:&nbsp\;Michal Zahálka. Výprava:&nbsp\;Agnieszka Pátá-Oldak. Režie:&nbsp\;Petr Svojtka.Lenka Vlasáková\,&nbsp\;Miroslav Etzler\,&nbsp\;Veronika Svojtková\,&nbsp\;Ladislav HamplKomedie úspěšného herce a&nbsp\;dramatika. Caroline se jednoho dne z&nbsp\;dlouhé chvíle začte do rozpracovaného románu svého muže\, úspěšného prozaika Guillauma\, a&nbsp\;nevěří svým očím. Hrdina románu o&nbsp\;nemanželském poměru stárnoucího muže s&nbsp\;mladou atraktivní dívkou se povážlivě podobá samotnému autorovi. A&nbsp\;dokonce tuší\, o&nbsp\;kterou dívku by se mohlo jednat. Když k&nbsp\;nim na večeři přicházejí dlouholetí přátelé Éric a&nbsp\;Sylvie\, rozhodne se Caroline muže se svým podezřením konfrontovat...
LOCATION:Zbýšov
END:VEVENT
END:VCALENDAR