BEGIN:VCALENDAR
VERSION:2.0
CALSCALE:GREGORIAN
PRODID:-//MyApp//Calendar 1.0//EN
BEGIN:VEVENT
METHOD:PUBLISH
UID:38462@regionalniportaly.cz
DTSTAMP:20260423T000039Z
DTSTART;VALUE=DATE:20241003
DTEND;VALUE=DATE:20241004
SUMMARY:Čarodějky v kuchyni
DESCRIPTION:CAROLINE SMITH: ČARODĚJKY V KUCHYNIRežie&nbsp\;Roman ŠtolpaPřeklad&nbsp\;Martin FahrnerHrajíVeronika Žilková / Sandra PogodováMichaela DolinováLadislav Ondřej / Vincent NavrátilMilan DuchekBrilantní komedie kanadské autorky. Kuchařky Dolly Biddleová a Isabel Lomaxová mají každá svou televizní kuchařskou show. Každá se orientuje na jinou kuchyni a příšerně na sebe žárlí. Doslova se nesnášejí\, a to je slabé slovo. Nejenom kvůli konkurenci i taky kvůli dávnému hříchu z mládí. Je nebezpečné vyskytovat se v jejich blízkosti\, pokud se ty dvě dostanou k sobě. A právě těmto dvěma rivalkám je nabídnuta nová společná cooking show Čarodějky v kuchyni. Urážky jsou pikantnější než připravované pokrmy\, výpady ostřejší než chilli paprika\, atmosféra hustější než bešamelová omáčka.
LOCATION:Zbýšov
END:VEVENT
END:VCALENDAR