BEGIN:VCALENDAR
VERSION:2.0
CALSCALE:GREGORIAN
PRODID:-//MyApp//Calendar 1.0//EN
BEGIN:VEVENT
METHOD:PUBLISH
UID:38312@regionalniportaly.cz
DTSTAMP:20260423T122044Z
DTSTART;VALUE=DATE:20240228
DTEND;VALUE=DATE:20240229
SUMMARY:Marcel Zmožek
DESCRIPTION:Známý zpěvák vystoupí poprvé v Moravském Krumlově! V Orlovně Rakšice na vás čekají jeho nejznámnější hity!
LOCATION:Moravský Krumlov
END:VEVENT
END:VCALENDAR