BEGIN:VCALENDAR
VERSION:2.0
CALSCALE:GREGORIAN
PRODID:-//MyApp//Calendar 1.0//EN
BEGIN:VEVENT
METHOD:PUBLISH
UID:38122@regionalniportaly.cz
DTSTAMP:20260423T122725Z
DTSTART;VALUE=DATE:20231229
DTEND;VALUE=DATE:20231230
SUMMARY:Perinbaba a dva světy
DESCRIPTION:
LOCATION:Zbýšov
END:VEVENT
END:VCALENDAR