BEGIN:VCALENDAR
VERSION:2.0
CALSCALE:GREGORIAN
PRODID:-//MyApp//Calendar 1.0//EN
BEGIN:VEVENT
METHOD:PUBLISH
UID:37939@regionalniportaly.cz
DTSTAMP:20260422T061204Z
DTSTART;VALUE=DATE:20240125
DTEND;VALUE=DATE:20240126
SUMMARY:Pátá dohoda - přístavek
DESCRIPTION:
LOCATION:Zbýšov
END:VEVENT
END:VCALENDAR