BEGIN:VCALENDAR
VERSION:2.0
CALSCALE:GREGORIAN
PRODID:-//MyApp//Calendar 1.0//EN
BEGIN:VEVENT
METHOD:PUBLISH
UID:37681@regionalniportaly.cz
DTSTAMP:20260422T044355Z
DTSTART;VALUE=DATE:20231215
DTEND;VALUE=DATE:20231216
SUMMARY:Máša a medvěd 2: Dvojitá zábava
DESCRIPTION:Připoutejte se\, divoká jízda začíná!&nbsp\;Máša&nbsp\;se vydává z lesa na návštěvu města a pak zpět domů.
LOCATION:Zbýšov
END:VEVENT
END:VCALENDAR