BEGIN:VCALENDAR
VERSION:2.0
CALSCALE:GREGORIAN
PRODID:-//MyApp//Calendar 1.0//EN
BEGIN:VEVENT
METHOD:PUBLISH
UID:37409@regionalniportaly.cz
DTSTAMP:20260422T074349Z
DTSTART;VALUE=DATE:20231201
DTEND;VALUE=DATE:20231202
SUMMARY:Tancuj Matyldo
DESCRIPTION:Příběh úspěšného právníka a jeho syna\, jejichž matka a babička Matylda onemocněla Alzheimerovou chorobou. Nová situace jim převrátí život vzhůru nohama\, všichni navzájem k sobě ale musí nalézt cestu a někdy najít i sami sebe.
LOCATION:Zbýšov
END:VEVENT
END:VCALENDAR