BEGIN:VCALENDAR
VERSION:2.0
CALSCALE:GREGORIAN
PRODID:-//MyApp//Calendar 1.0//EN
BEGIN:VEVENT
METHOD:PUBLISH
UID:37120@regionalniportaly.cz
DTSTAMP:20260422T043414Z
DTSTART;VALUE=DATE:20231124
DTEND;VALUE=DATE:20231125
SUMMARY:Napoleon
DESCRIPTION:
LOCATION:Zbýšov
END:VEVENT
END:VCALENDAR