BEGIN:VCALENDAR
VERSION:2.0
CALSCALE:GREGORIAN
PRODID:-//MyApp//Calendar 1.0//EN
BEGIN:VEVENT
METHOD:PUBLISH
UID:37072@regionalniportaly.cz
DTSTAMP:20260422T060958Z
DTSTART;VALUE=DATE:20240124
DTEND;VALUE=DATE:20240125
SUMMARY:Marie Rottrová - novoroční koncert ve Zbýšově
DESCRIPTION:
LOCATION:Zbýšov
END:VEVENT
END:VCALENDAR