BEGIN:VCALENDAR
VERSION:2.0
CALSCALE:GREGORIAN
PRODID:-//MyApp//Calendar 1.0//EN
BEGIN:VEVENT
METHOD:PUBLISH
UID:37071@regionalniportaly.cz
DTSTAMP:20260422T142716Z
DTSTART;VALUE=DATE:20240609
DTEND;VALUE=DATE:20240610
SUMMARY:VELKÁ ZEBRA aneb Jak že se to jmenujete?
DESCRIPTION:Christian má "nemoc". S&nbsp\;každou ženou vydrží jen chvíli. Byl ženatý s&nbsp\;Gisele\, ale po čase na něj padla hrůza a&nbsp\;pocítil nepřekonatelnou potřebu utéct. Aby své svědomí alespoň částečně utišil\, uzavřel ve prospěch své ženy vysokou životní pojistku a&nbsp\;předstíral\, že se na rybách utopil.Tento trik úspěšně použil v&nbsp\;životě dvakrát a&nbsp\;právě se ho chystá zrealizovat potřetí. Jenomže tentokrát mu osud postaví do cesty problém v&nbsp\;podobě přítele z&nbsp\;dětství\, který ho pozná podle náhodné fotografie v&nbsp\;novinách a&nbsp\;navštíví ho.Christian\, který měl vždy vše dopodrobna naplánováno\, musí najednou improvizovat a&nbsp\;ke své hrůze se ocitá tváří v&nbsp\;tvář se svými "vdovami" i&nbsp\;novou snoubenkou. Podaří se mu tuto nezávidění hodnou situaci zvládnout i&nbsp\;potřetí?
LOCATION:Zbýšov
END:VEVENT
END:VCALENDAR