BEGIN:VCALENDAR
VERSION:2.0
CALSCALE:GREGORIAN
PRODID:-//MyApp//Calendar 1.0//EN
BEGIN:VEVENT
METHOD:PUBLISH
UID:36881@regionalniportaly.cz
DTSTAMP:20260422T061134Z
DTSTART;VALUE=DATE:20231117
DTEND;VALUE=DATE:20231118
SUMMARY:Trollové 3
DESCRIPTION:USA 2023\, režie: Walt Dohrn\, Tim HeitzNejbarevnější film plný třpytek a předělávek těch největších hudebních hitů se vrací do kin. Roztomilí Trollové v čele s princeznou Poppy budou už potřetí řádit jako utržení ze řetězu a navrch prožívat řadu nervydrásajících dobrodružství.
LOCATION:Zbýšov
END:VEVENT
END:VCALENDAR