BEGIN:VCALENDAR
VERSION:2.0
CALSCALE:GREGORIAN
PRODID:-//MyApp//Calendar 1.0//EN
BEGIN:VEVENT
METHOD:PUBLISH
UID:36779@regionalniportaly.cz
DTSTAMP:20260422T025031Z
DTSTART;VALUE=DATE:20231118
DTEND;VALUE=DATE:20231119
SUMMARY:7 PÁDŮ HONZY DĚDKA - přístavek
DESCRIPTION:
LOCATION:Zbýšov
END:VEVENT
END:VCALENDAR