BEGIN:VCALENDAR
VERSION:2.0
CALSCALE:GREGORIAN
PRODID:-//MyApp//Calendar 1.0//EN
BEGIN:VEVENT
METHOD:PUBLISH
UID:36777@regionalniportaly.cz
DTSTAMP:20260422T061144Z
DTSTART;VALUE=DATE:20231110
DTEND;VALUE=DATE:20231111
SUMMARY:Marvels
DESCRIPTION:Akční / Dobrodružný / Sci-FiUSA\,&nbsp\;2023\,&nbsp\;105 minRežie:&nbsp\;Nia DaCostaScénář:&nbsp\;Megan McDonnellKamera:&nbsp\;Sean BobbittHudba:&nbsp\;Laura KarpmanHrají:&nbsp\;Brie Larson\,&nbsp\;Iman Vellani\,&nbsp\;Teyonah Parris\,&nbsp\;Zawe Ashton\,&nbsp\;Lashana Lynch\,&nbsp\;Samuel L. Jackson\,&nbsp\;Randall Park\,&nbsp\;Mohan Kapur\,&nbsp\;Zenobia Shroff\,&nbsp\;Seo-joon Park
LOCATION:Zbýšov
END:VEVENT
END:VCALENDAR