BEGIN:VCALENDAR
VERSION:2.0
CALSCALE:GREGORIAN
PRODID:-//MyApp//Calendar 1.0//EN
BEGIN:VEVENT
METHOD:PUBLISH
UID:36776@regionalniportaly.cz
DTSTAMP:20260422T025111Z
DTSTART;VALUE=DATE:20231110
DTEND;VALUE=DATE:20231111
SUMMARY:Jak přežít svého muže
DESCRIPTION:Komedie / RomantickýČesko\,&nbsp\;2023\,&nbsp\;92 minRežie:&nbsp\;Rudolf MerknerPředloha:&nbsp\;Jana Bernášková&nbsp\;(kniha)Scénář:&nbsp\;Rudolf MerknerKamera:&nbsp\;Nicolas BordierHudba:&nbsp\;David SolařHrají:&nbsp\;Jana Bernášková\,&nbsp\;Marek Němec\,&nbsp\;Ivana Chýlková\,&nbsp\;Roman Zach\,&nbsp\;Iva Pazderková\,&nbsp\;Mahulena Bočanová\,&nbsp\;Pavla Dostálová\,&nbsp\;Jitka Sedláčková\,&nbsp\;Tomáš Měcháče
LOCATION:Zbýšov
END:VEVENT
END:VCALENDAR