BEGIN:VCALENDAR
VERSION:2.0
CALSCALE:GREGORIAN
PRODID:-//MyApp//Calendar 1.0//EN
BEGIN:VEVENT
METHOD:PUBLISH
UID:36667@regionalniportaly.cz
DTSTAMP:20260422T013113Z
DTSTART;VALUE=DATE:20231105
DTEND;VALUE=DATE:20231106
SUMMARY:Bez předsudků - přístavek
DESCRIPTION:
LOCATION:Zbýšov
END:VEVENT
END:VCALENDAR