BEGIN:VCALENDAR
VERSION:2.0
CALSCALE:GREGORIAN
PRODID:-//MyApp//Calendar 1.0//EN
BEGIN:VEVENT
METHOD:PUBLISH
UID:36490@regionalniportaly.cz
DTSTAMP:20260422T172635Z
DTSTART;VALUE=DATE:20240628
DTEND;VALUE=DATE:20240629
SUMMARY:POKÁČ - Moravský Krumlov
DESCRIPTION:POKÁČ je český písničkář\, který hraje na kytaru\, ukulele a nemá moc vlasů. V textech často humornou a satirickou formou zpracovává témata obyčejného života. Jeho videa mají na Youtube miliony zhlédnutí\, mezi jeho úspěchy se řadí 2. místo v anketě Český Slavík v kategorii zpěvák\, ocenění Platinová deska za prodej jeho studiových alb či vyprodané Forum Karlín. Přesto je to pořád skromný kluk\, který má rád maminku\, jídlo a svojí kočku.&nbsp\;Vstupné na akci:do 5 let věku zdarmado 10 let věku 290\,-starší 490\,-To vše&nbsp\;včetně&nbsp\;poplatků.Na místě 350\,- za děti do 10 let\, resp.&nbsp\;550\,- pro ty starší
LOCATION:Moravský Krumlov
END:VEVENT
END:VCALENDAR