BEGIN:VCALENDAR
VERSION:2.0
CALSCALE:GREGORIAN
PRODID:-//MyApp//Calendar 1.0//EN
BEGIN:VEVENT
METHOD:PUBLISH
UID:36341@regionalniportaly.cz
DTSTAMP:20260422T025023Z
DTSTART;VALUE=DATE:20231122
DTEND;VALUE=DATE:20231123
SUMMARY:Virtuálně v elektrárně - elektrárna Dukovany: energie z jádra
DESCRIPTION:Návštěva Dukovan je opět možná i virtuálně. Virtuálně v elektrárně odstartovalo čtvrtou řadu!
LOCATION:Dukovany
END:VEVENT
END:VCALENDAR