BEGIN:VCALENDAR
VERSION:2.0
CALSCALE:GREGORIAN
PRODID:-//MyApp//Calendar 1.0//EN
BEGIN:VEVENT
METHOD:PUBLISH
UID:36320@regionalniportaly.cz
DTSTAMP:20260422T010045Z
DTSTART;VALUE=DATE:20231027
DTEND;VALUE=DATE:20231028
SUMMARY:Bratři
DESCRIPTION:Dobrodružný / Historický / DramaČesko / Slovensko\,&nbsp\;2023\,&nbsp\;135 minRežie:&nbsp\;Tomáš MašínScénář:&nbsp\;Marek EpsteinKamera:&nbsp\;Friede ClauszHudba:&nbsp\;Karel HavlíčekHrají:&nbsp\;Oskar Hes\,&nbsp\;Jan Nedbal\,&nbsp\;Tatiana Dyková\,&nbsp\;Adam Ernest\,&nbsp\;Stefan Konarske\,&nbsp\;Karolína Lea Nováková\,&nbsp\;Matěj Hádek\,&nbsp\;Matyáš Řezníček\,&nbsp\;Tony Mašek\,&nbsp\;Alžběta Malá&nbsp\;(více)(další profese)Obsahy(1)Film&nbsp\;Bratři&nbsp\;vypráví jeden z největších příběhů studené války o odbojové skupině bratrů Josefa (Oskar Hes) a Ctirada Mašínových (Jan Nedbal). Rodina Mašínových se v komunisty ovládaném Československu stává terčem pronásledování a bratři věří\, že po vzoru otce\, hrdiny protinacistického odboje\, lze proti diktatuře bojovat jedině se zbraní v ruce. Zároveň si jsou vědomi odpovědnosti vůči mámě (Tatiana Dyková Vilhelmová) a sestře (Karolína Lea Nováková). Zakládají odbojovou skupinu\, která má na svědomí řadu násilných činů\, jejichž vyšetřováním je pověřen kapitán Státní bezpečnosti Koller (Stefan Konarske). Mašínové se stávají nejhledanějšími muži v zemi. Pokusí se o útěk do Západního Berlína\, kde plánují vstoupit do americké armády s cílem osvobodit Československo. Pátrání po pětici členů odbojové skupiny pokračuje ve východním Německu\, kde začíná jeden z největších honů na lidi v novodobé historii. Jen málokteré téma české historie vzbuzuje tolik emocí jako příběh snímku&nbsp\;Bratři.&nbsp\;(Ci
LOCATION:Zbýšov
END:VEVENT
END:VCALENDAR