BEGIN:VCALENDAR
VERSION:2.0
CALSCALE:GREGORIAN
PRODID:-//MyApp//Calendar 1.0//EN
BEGIN:VEVENT
METHOD:PUBLISH
UID:36319@regionalniportaly.cz
DTSTAMP:20260421T232713Z
DTSTART;VALUE=DATE:20231027
DTEND;VALUE=DATE:20231028
SUMMARY:Strašidlo Cantervillské
DESCRIPTION:Po tři staletí strašil Sir Simon de Canterville ve svém sídle Canterville Chase a vskutku dobře se u toho bavil! Jenže jednoho krásného dne koupili dům Američani! Tahle moderní rodinka se nenechá jen tak vystrašit a staré dobré čáry na ni neplatí. Podaří se Siru Simonovi ty otravné cizáky vyhnat ze svého domu? Vydejte se s&nbsp\;námi na strašidelný výlet do staré dobré Anglie\, kde i duchové stále ještě mají úroveň.
LOCATION:Zbýšov
END:VEVENT
END:VCALENDAR