BEGIN:VCALENDAR
VERSION:2.0
CALSCALE:GREGORIAN
PRODID:-//MyApp//Calendar 1.0//EN
BEGIN:VEVENT
METHOD:PUBLISH
UID:36286@regionalniportaly.cz
DTSTAMP:20260422T044136Z
DTSTART;VALUE=DATE:20231208
DTEND;VALUE=DATE:20231209
SUMMARY:Čertovskej taneček - GATE Crasher a Bastard v Rybníkách
DESCRIPTION:Čertovskej večírek v v Rybníkách (Moravský Krumlov) s kapelami:GATE Crasherhttps://gatecrasher.cz/Bastardhttps://www.bastard-band.cz/Dywanhttps://www.facebook.com/kapelaDYWAN/
LOCATION:Rybníky
END:VEVENT
END:VCALENDAR